BEGIN:VCALENDAR
PRODID:-//Microsoft Corporation//Outlook 11.0 MIMEDIR//EN
VERSION:2.0
CALSCALE:GREGORIAN
METHOD:PUBLISH
BEGIN:VEVENT
UID:20260423T132837-994826788@ecco.be
DTSTART:20241122T083000
DTEND:20241122T143000
DTSTAMP:20260423T112837
SUMMARY:smartCARE & PROTECT-EUROPE Showcase Event
DESCRIPTION: One Showcase Event for Two Stellar Projects\n \nOn the day after the European Cancer Summit the smartCARE & PROTECT-EUROPE Showcase Event highlighted the main lessons and opportunities from these two flagship EU4Health projects. \n\n 
LOCATION: Radisson Collection Hotel, Grand Place Brussels (and Virtual), , 
TRANSP:OPAQUE
END:VEVENT
END:VCALENDAR
