BEGIN:VCALENDAR
PRODID:-//Microsoft Corporation//Outlook 11.0 MIMEDIR//EN
VERSION:2.0
CALSCALE:GREGORIAN
METHOD:PUBLISH
BEGIN:VEVENT
UID:20260424T021116-2013238849@ecco.be
DTSTART:20250226T150000
DTEND:20250226T170000
DTSTAMP:20260424T001116
SUMMARY:From Data to Action: Advancing Public Health through Quality-of-Life Measurement
DESCRIPTION: 
LOCATION: Online, , 
TRANSP:OPAQUE
END:VEVENT
END:VCALENDAR
