BEGIN:VCALENDAR
PRODID:-//Microsoft Corporation//Outlook 11.0 MIMEDIR//EN
VERSION:2.0
CALSCALE:GREGORIAN
METHOD:PUBLISH
BEGIN:VEVENT
UID:20260424T110752-1302953371@ecco.be
DTSTART:20191210T170000
DTEND:20191210T190000
DTSTAMP:20260424T090752
SUMMARY:Mission Possible: Eliminating Cancers Caused by HPV as a Public Health Problem in Europe
DESCRIPTION: The event, hosted by Véronique Trillet-Lenoir MEP (Renew Europe, France), discussed key recommendations for combating HPV caused cancers, raised in the context of the emergent EU Cancer Mission and European Beating Cancer Plan.
LOCATION: Brussels, , 
TRANSP:OPAQUE
END:VEVENT
END:VCALENDAR
